BEGIN:VCALENDAR
VERSION:2.0
PRODID:-//Wilkinson Family Racing - ECPv6.15.18//NONSGML v1.0//EN
CALSCALE:GREGORIAN
METHOD:PUBLISH
X-WR-CALNAME:Wilkinson Family Racing
X-ORIGINAL-URL:https://wilkinsonfamilyracing.com
X-WR-CALDESC:Events for Wilkinson Family Racing
REFRESH-INTERVAL;VALUE=DURATION:PT1H
X-Robots-Tag:noindex
X-PUBLISHED-TTL:PT1H
BEGIN:VTIMEZONE
TZID:America/Los_Angeles
BEGIN:DAYLIGHT
TZOFFSETFROM:-0800
TZOFFSETTO:-0700
TZNAME:PDT
DTSTART:20250309T100000
END:DAYLIGHT
BEGIN:STANDARD
TZOFFSETFROM:-0700
TZOFFSETTO:-0800
TZNAME:PST
DTSTART:20251102T090000
END:STANDARD
BEGIN:DAYLIGHT
TZOFFSETFROM:-0800
TZOFFSETTO:-0700
TZNAME:PDT
DTSTART:20260308T100000
END:DAYLIGHT
BEGIN:STANDARD
TZOFFSETFROM:-0700
TZOFFSETTO:-0800
TZNAME:PST
DTSTART:20261101T090000
END:STANDARD
BEGIN:DAYLIGHT
TZOFFSETFROM:-0800
TZOFFSETTO:-0700
TZNAME:PDT
DTSTART:20270314T100000
END:DAYLIGHT
BEGIN:STANDARD
TZOFFSETFROM:-0700
TZOFFSETTO:-0800
TZNAME:PST
DTSTART:20271107T090000
END:STANDARD
END:VTIMEZONE
BEGIN:VEVENT
DTSTART;TZID=America/Los_Angeles:20260425T180000
DTEND;TZID=America/Los_Angeles:20260425T220000
DTSTAMP:20260423T140353
CREATED:20260403T174234Z
LAST-MODIFIED:20260415T022943Z
UID:352-1777140000-1777154400@wilkinsonfamilyracing.com
SUMMARY:Grocery Outlet Figure 8 Night
DESCRIPTION:Scheduled to Race*Outlaw Figure 8sSuper Stock Figure 8sMini StocksYouth HornetsVintage ModsSpec Rangers
URL:https://wilkinsonfamilyracing.com/event/saturday-april-25th-2026-grocery-outlet-figure-8-night/
LOCATION:Evergreen Speedway\, 14405 179th Ave SE\, Monroe\, WA\, 98272\, United States
CATEGORIES:Race
ATTACH;FMTTYPE=image/jpeg:https://wilkinsonfamilyracing.com/wp-content/uploads/2026/04/4-25-26-Slider-v2-1.jpg
END:VEVENT
BEGIN:VEVENT
DTSTART;TZID=America/Los_Angeles:20260524T180000
DTEND;TZID=America/Los_Angeles:20260524T220000
DTSTAMP:20260423T140353
CREATED:20260403T173907Z
LAST-MODIFIED:20260415T023120Z
UID:348-1779645600-1779660000@wilkinsonfamilyracing.com
SUMMARY:Sean Peters Memorial Demo Derby
DESCRIPTION:Scheduled to Race*Outlaw Figure 8sSuper Stock Figure 8sLegendsMini Bump 2 PassBusesDemo DerbyFIREWORKS!
URL:https://wilkinsonfamilyracing.com/event/348/
LOCATION:Evergreen Speedway\, 14405 179th Ave SE\, Monroe\, WA\, 98272\, United States
CATEGORIES:Race
ATTACH;FMTTYPE=image/jpeg:https://wilkinsonfamilyracing.com/wp-content/uploads/2026/04/5-24-26-Slider-1-660x330-1.jpg
END:VEVENT
END:VCALENDAR